BEGIN:VCALENDAR
VERSION:2.0
PRODID:-//www.prolifedallas.org//NONSGML eventview//EN
METHOD:PUBLISH
BEGIN:VEVENT
UID:35751612909625
DTSTAMP:20210410T090000
DTSTART:20210410T090000
DTEND:20210410T153000
LOCATION:
SUMMARY:Conferencia Virtual “Teach 4 Life”
DESCRIPTION:
END:VEVENT
END:VCALENDAR