BEGIN:VCALENDAR
VERSION:2.0
PRODID:-//www.prolifedallas.org//NONSGML eventview//EN
METHOD:PUBLISH
BEGIN:VEVENT
UID:35901615321863
DTSTAMP:20210509T000000
DTSTART:20210509T000000
DTEND:20210509T235900
LOCATION:
SUMMARY:Día de la Madre
DESCRIPTION:
END:VEVENT
END:VCALENDAR