BEGIN:VCALENDAR
VERSION:2.0
PRODID:-//www.prolifedallas.org//NONSGML eventview//EN
METHOD:PUBLISH
BEGIN:VEVENT
UID:38311657814988
DTSTAMP:20220914T000000
DTSTART:20220914T000000
DTEND:20220914T235900
LOCATION:
SUMMARY:Amanecer de la Misericordia. Sanación Emocional y Espiritual después de una Agresión Sexual
DESCRIPTION:
END:VEVENT
END:VCALENDAR